BEGIN:VCALENDAR
VERSION:2.0
PRODID:-//St. Matthew&#039;s Episcopal Church - ECPv4.0.4//NONSGML v1.0//EN
CALSCALE:GREGORIAN
METHOD:PUBLISH
X-WR-CALNAME:St. Matthew&#039;s Episcopal Church
X-ORIGINAL-URL:https://www.stmatthewssnellville.org
X-WR-CALDESC:Events for St. Matthew&#039;s Episcopal Church
BEGIN:VEVENT
DTSTART;VALUE=DATE:20170813
DTEND;VALUE=DATE:20170813
DTSTAMP:20260420T215101
CREATED:20170516
LAST-MODIFIED:20170516
UID:8823-1502582400-1502668799@www.stmatthewssnellville.org
SUMMARY:Sunday Service Schedule
DESCRIPTION:8:00 a.m. Holy Eucharist\n\n9:00 a.m. Continental Breakfast\n\n9:30 a.m.  Sunday School / Christian Formation\, all ages\n\n10:30 a.m. Holy Eucharist\n\n \n\n6:00 - 8:00 p.m. Youth Group 6th - 12th grades begins\n\n 
URL:https://www.stmatthewssnellville.org/event/sunday-service-schedule/2017-08-13/
CATEGORIES:Sunday School,Worship,Youth
END:VEVENT
BEGIN:VEVENT
DTSTART;TZID="America/New_York":20170813T093000
DTEND;TZID="America/New_York":20170813T101500
DTSTAMP:20260420T215101
CREATED:20170501T155343
LAST-MODIFIED:20170501T155423
UID:8706-1502616600-1502619300@www.stmatthewssnellville.org
SUMMARY:Sunday School Registration All Ages
DESCRIPTION:Come check out the classes for the fall semester! Registration for Sunny's Kids (Twos through fifth grade) and J2A (Journey to Adulthood\, 6th through 12th grades)\, as well as Adult Christian Education. Contact Sally Ulrey\, Sunday School Director and Youth Minister\, for more information.\n\nFirst day of Sunday School all ages is Sunday\, August 20\, 9:30 a.m.
URL:https://www.stmatthewssnellville.org/event/sunday-school-registration-all-ages/
CATEGORIES:Sunday School
END:VEVENT
END:VCALENDAR